BEGIN:VCALENDAR
VERSION:2.0
PRODID:-//Plone.org//NONSGML plone.app.event//EN
X-WR-TIMEZONE:US/Eastern
BEGIN:VEVENT
SUMMARY:Invitation: Town-wide Community Conversation
DTSTART;TZID=America/New_York;VALUE=DATE-TIME:20230120T180000
DTEND;TZID=America/New_York;VALUE=DATE-TIME:20230120T210000
DTSTAMP;VALUE=DATE-TIME:20260426T002208Z
UID:187a6924dea2443fbc6db6aeccebccfc@plone
CATEGORIES:Public Event
CONTACT:One Hillsborough Task Force\, onehillsboroughnj@gmail.com
CREATED;VALUE=DATE-TIME:20230105T194452Z
DESCRIPTION:One Hillsborough\, a new cross-cultural community advocacy coa
 lition in collaboration with Hillsborough Township sponsorship\, invites a
 ll citizens to its first town-wide platform for community conversations to
  be held on January 20th\, 2023\, from 6:00–9:00 PM at the Hillsborough 
 Municipal Building located at 379 South Branch Road in Hillsborough. Sandw
 iches and refreshments will be served\, courtesy of the HEA Pride Committe
 e.
LAST-MODIFIED;VALUE=DATE-TIME:20230214T012045Z
LOCATION:Hillsborough Municipal Building\, 379 South Branch Road\, Hillsbo
 rough
URL:http://hillsboroughcommons.org/events/town-wide-community-conversation
END:VEVENT
BEGIN:VTIMEZONE
TZID:America/New_York
X-LIC-LOCATION:America/New_York
BEGIN:STANDARD
DTSTART;VALUE=DATE-TIME:20221106T010000
TZNAME:EST
TZOFFSETFROM:-0400
TZOFFSETTO:-0500
END:STANDARD
END:VTIMEZONE
END:VCALENDAR
