BEGIN:VCALENDAR
VERSION:2.0
PRODID:-//Plone.org//NONSGML plone.app.event//EN
X-WR-TIMEZONE:US/Eastern
BEGIN:VEVENT
SUMMARY:Social Change Workshop (zoom)
DTSTART;TZID=America/New_York;VALUE=DATE-TIME:20220210T190000
DTEND;TZID=America/New_York;VALUE=DATE-TIME:20220210T203000
DTSTAMP;VALUE=DATE-TIME:20260426T002110Z
UID:04cc1b1207744e6d877bb275c9a8935f@plone
CONTACT:Nishat\, 9086722488\, nishat.ruiter@gmail.com
CREATED;VALUE=DATE-TIME:20220210T175032Z
DESCRIPTION:Online workshop to discuss social change\, hosted by Nishat Ru
 iter.
LAST-MODIFIED;VALUE=DATE-TIME:20230214T012045Z
LOCATION:Zoom (virtual event)
URL:http://hillsboroughcommons.org/events/social-change-workshop-zoom
END:VEVENT
BEGIN:VTIMEZONE
TZID:America/New_York
X-LIC-LOCATION:America/New_York
BEGIN:STANDARD
DTSTART;VALUE=DATE-TIME:20211107T010000
TZNAME:EST
TZOFFSETFROM:-0400
TZOFFSETTO:-0500
END:STANDARD
END:VTIMEZONE
END:VCALENDAR
