BEGIN:VCALENDAR
VERSION:2.0
PRODID:-//Plone.org//NONSGML plone.app.event//EN
X-WR-TIMEZONE:US/Eastern
BEGIN:VEVENT
SUMMARY:Screening of movie "Me\, the Other" (again)
DTSTART;TZID=America/New_York;VALUE=DATE-TIME:20221015T200000
DTEND;TZID=America/New_York;VALUE=DATE-TIME:20221015T230000
DTSTAMP;VALUE=DATE-TIME:20260426T002841Z
UID:75fae89ee3354b9f85005c524b798c68@plone
CONTACT:Nishat Ruiter\, 9086722488\, nishat.ruiter@gmail.com
CREATED;VALUE=DATE-TIME:20221006T173654Z
DESCRIPTION:The movie narrates real-life stories of various young people f
 rom Michigan who experience ‘othering’ and how this has affected and s
 till shapes their lives.
LAST-MODIFIED;VALUE=DATE-TIME:20230214T012045Z
LOCATION:Ruiter residence\, 635 Hillsborough Rd\, Hillsborough\, NJ 08844
URL:http://hillsboroughcommons.org/events/screening-of-movie-me-the-other-
 again
END:VEVENT
BEGIN:VTIMEZONE
TZID:America/New_York
X-LIC-LOCATION:America/New_York
BEGIN:DAYLIGHT
DTSTART;VALUE=DATE-TIME:20220313T030000
TZNAME:EDT
TZOFFSETFROM:-0500
TZOFFSETTO:-0400
END:DAYLIGHT
END:VTIMEZONE
END:VCALENDAR
