BEGIN:VCALENDAR
VERSION:2.0
PRODID:-//Plone.org//NONSGML plone.app.event//EN
X-WR-TIMEZONE:US/Eastern
BEGIN:VEVENT
SUMMARY:One Hillsborough debrief on NNO (Aug 9th - zoom)
DTSTART;TZID=US/Eastern;VALUE=DATE-TIME:20230809T200000
DTEND;TZID=US/Eastern;VALUE=DATE-TIME:20230809T204000
DTSTAMP;VALUE=DATE-TIME:20260426T002641Z
UID:ac52fd5494044852b6c92407f2e69797@plone
CONTACT:Nishat or Pieter\, onehillsboroughnj@gmail.com
CREATED;VALUE=DATE-TIME:20230806T174004Z
DESCRIPTION:Debrief on Hillsborough's first National Night Out\, August 1s
 t 2023
LAST-MODIFIED;VALUE=DATE-TIME:20230811T202842Z
LOCATION:Zoom
URL:http://hillsboroughcommons.org/events/one-hillsborough-debrief-on-nno-
 zoom
END:VEVENT
BEGIN:VTIMEZONE
TZID:US/Eastern
X-LIC-LOCATION:US/Eastern
BEGIN:DAYLIGHT
DTSTART;VALUE=DATE-TIME:20230312T030000
TZNAME:EDT
TZOFFSETFROM:-0500
TZOFFSETTO:-0400
END:DAYLIGHT
END:VTIMEZONE
END:VCALENDAR
