BEGIN:VCALENDAR
VERSION:2.0
PRODID:-//Plone.org//NONSGML plone.app.event//EN
X-WR-TIMEZONE:US/Eastern
BEGIN:VEVENT
SUMMARY:HB's first National Night Out
DTSTART;TZID=US/Eastern;VALUE=DATE-TIME:20230801T180000
DTEND;TZID=US/Eastern;VALUE=DATE-TIME:20230801T200000
DTSTAMP;VALUE=DATE-TIME:20260426T002155Z
UID:823a9556b7464770a950f523b17e5f8a@plone
CREATED;VALUE=DATE-TIME:20230724T170708Z
DESCRIPTION:Police Department hosts Hillsborough's first National Night Ou
 t
LAST-MODIFIED;VALUE=DATE-TIME:20230806T174149Z
LOCATION:Mountain View Park
URL:http://hillsboroughcommons.org/events/national-night-out
END:VEVENT
BEGIN:VTIMEZONE
TZID:US/Eastern
X-LIC-LOCATION:US/Eastern
BEGIN:DAYLIGHT
DTSTART;VALUE=DATE-TIME:20230312T030000
TZNAME:EDT
TZOFFSETFROM:-0500
TZOFFSETTO:-0400
END:DAYLIGHT
END:VTIMEZONE
END:VCALENDAR
