BEGIN:VCALENDAR
VERSION:2.0
PRODID:-//Plone.org//NONSGML plone.app.event//EN
X-WR-TIMEZONE:US/Eastern
BEGIN:VEVENT
SUMMARY:Learning Circle (zoom) Event
DTSTART;TZID=US/Eastern;VALUE=DATE-TIME:20230427T200000
DTEND;TZID=US/Eastern;VALUE=DATE-TIME:20230427T210000
DTSTAMP;VALUE=DATE-TIME:20260426T002155Z
UID:f298fb5f97cd4174911a77f7706989c7@plone
CONTACT:Nishat\, onehillsboroughnj@gmail.com
CREATED;VALUE=DATE-TIME:20230330T194333Z
DESCRIPTION:Online event to learn about topics relevant to our community.
LAST-MODIFIED;VALUE=DATE-TIME:20230501T175349Z
LOCATION:zoom
URL:http://hillsboroughcommons.org/events/hillsborough-learning-circle-zoo
 m
END:VEVENT
BEGIN:VTIMEZONE
TZID:US/Eastern
X-LIC-LOCATION:US/Eastern
BEGIN:DAYLIGHT
DTSTART;VALUE=DATE-TIME:20230312T030000
TZNAME:EDT
TZOFFSETFROM:-0500
TZOFFSETTO:-0400
END:DAYLIGHT
END:VTIMEZONE
END:VCALENDAR
