BEGIN:VCALENDAR
VERSION:2.0
PRODID:-//Plone.org//NONSGML plone.app.event//EN
X-WR-TIMEZONE:US/Eastern
BEGIN:VEVENT
SUMMARY:General One Hillsborough Meeting
DTSTART;TZID=US/Eastern;VALUE=DATE-TIME:20230219T150000
DTEND;TZID=US/Eastern;VALUE=DATE-TIME:20230219T170000
DTSTAMP;VALUE=DATE-TIME:20260426T002507Z
UID:91b56f54a30e417ab7c5f238d94aae39@plone
CONTACT:Nishat or Pieter\, 9085528189\, onehillsboroughnj@gmail.com
CREATED;VALUE=DATE-TIME:20230123T211228Z
DESCRIPTION:Repeats monthly\, generally on the 2nd Sunday\, meeting in per
 son.\nThis month: 1 week later (because of Super Bowl on Feb 12)
LAST-MODIFIED;VALUE=DATE-TIME:20230214T012044Z
LOCATION:Ruiter Residence\, 635 Hillsborough Rd\, Hillsborough\, NJ 08844
URL:http://hillsboroughcommons.org/events/copy_of_monthly-thursday-night-m
 eeting
END:VEVENT
BEGIN:VTIMEZONE
TZID:US/Eastern
X-LIC-LOCATION:US/Eastern
BEGIN:STANDARD
DTSTART;VALUE=DATE-TIME:20221106T010000
TZNAME:EST
TZOFFSETFROM:-0400
TZOFFSETTO:-0500
END:STANDARD
END:VTIMEZONE
END:VCALENDAR
