BEGIN:VCALENDAR
VERSION:2.0
PRODID:-//Plone.org//NONSGML plone.app.event//EN
X-WR-TIMEZONE:US/Eastern
BEGIN:VEVENT
SUMMARY:Upcoming One Hillsborough Meeting - Sep 30
DTSTART;TZID=US/Eastern;VALUE=DATE-TIME:20230930T100000
DTEND;TZID=US/Eastern;VALUE=DATE-TIME:20230930T113000
DTSTAMP;VALUE=DATE-TIME:20260426T002421Z
UID:ae5ae4ff880d4951be0ee1baac767508@plone
CONTACT:Nishat or Pieter\, onehillsboroughnj@gmail.com
CREATED;VALUE=DATE-TIME:20230615T135758Z
DESCRIPTION:Our monthly weekend meeting to get together and discuss the pr
 ogress in steps to enhance goodwill\, cooperation\,  understanding and jus
 tice in Hillsborough. Click for details.
LAST-MODIFIED;VALUE=DATE-TIME:20231010T232732Z
LOCATION:Ruiter residence\, 635 Hillsborough Rd\, Hillsborough\, NJ 08844
URL:http://hillsboroughcommons.org/events/copy_of_general-one-hillsborough
 -meeting
END:VEVENT
BEGIN:VTIMEZONE
TZID:US/Eastern
X-LIC-LOCATION:US/Eastern
BEGIN:DAYLIGHT
DTSTART;VALUE=DATE-TIME:20230312T030000
TZNAME:EDT
TZOFFSETFROM:-0500
TZOFFSETTO:-0400
END:DAYLIGHT
END:VTIMEZONE
END:VCALENDAR
