BEGIN:VCALENDAR
VERSION:2.0
PRODID:-//Plone.org//NONSGML plone.app.event//EN
X-WR-TIMEZONE:US/Eastern
BEGIN:VEVENT
SUMMARY:General One Hillsborough Meeting (brunch/lunch!)
DTSTART;TZID=US/Eastern;VALUE=DATE-TIME:20230429T103000
DTEND;TZID=US/Eastern;VALUE=DATE-TIME:20230429T123000
DTSTAMP;VALUE=DATE-TIME:20260426T002621Z
UID:30c872f5c2294effb9f7040896e83625@plone
CONTACT:Nishat or Pieter\, 9085528189\, onehillsboroughnj@gmail.com
CREATED;VALUE=DATE-TIME:20230123T211228Z
DESCRIPTION:No meeting in March\, but this particular April 29th meeting i
 ncludes brunch/lunch!
LAST-MODIFIED;VALUE=DATE-TIME:20230501T163958Z
LOCATION:Ruiter residence\, 635 Hillsborough Rd\, Hillsborough\, NJ 08844
URL:http://hillsboroughcommons.org/events/copy6_of_monthly-thursday-night-
 meeting
END:VEVENT
BEGIN:VTIMEZONE
TZID:US/Eastern
X-LIC-LOCATION:US/Eastern
BEGIN:DAYLIGHT
DTSTART;VALUE=DATE-TIME:20230312T030000
TZNAME:EDT
TZOFFSETFROM:-0500
TZOFFSETTO:-0400
END:DAYLIGHT
END:VTIMEZONE
END:VCALENDAR
