BEGIN:VCALENDAR
VERSION:2.0
PRODID:-//Plone.org//NONSGML plone.app.event//EN
X-WR-TIMEZONE:US/Eastern
BEGIN:VEVENT
SUMMARY:October Brunch Meeting - Sat 10/28
DTSTART;TZID=US/Eastern;VALUE=DATE-TIME:20231028T103000
DTEND;TZID=US/Eastern;VALUE=DATE-TIME:20231028T123000
DTSTAMP;VALUE=DATE-TIME:20260425T211341Z
UID:6df01488f22a4bfabf9bc5ce592deeee@plone
CATEGORIES:Promoting
CONTACT:Nishat or Pieter\, onehillsboroughnj@gmail.com
CREATED;VALUE=DATE-TIME:20230615T135758Z
DESCRIPTION:Our monthly weekend meeting to get together and discuss the pr
 ogress in steps to enhance goodwill\, cooperation\,  understanding and jus
 tice in Hillsborough.
LAST-MODIFIED;VALUE=DATE-TIME:20231010T233516Z
LOCATION:Ruiter residence\, 635 Hillsborough Rd\, Hillsborough\, NJ 08844
URL:http://hillsboroughcommons.org/events/copy2_of_general-one-hillsboroug
 h-meeting
END:VEVENT
BEGIN:VTIMEZONE
TZID:US/Eastern
X-LIC-LOCATION:US/Eastern
BEGIN:DAYLIGHT
DTSTART;VALUE=DATE-TIME:20230312T030000
TZNAME:EDT
TZOFFSETFROM:-0500
TZOFFSETTO:-0400
END:DAYLIGHT
END:VTIMEZONE
END:VCALENDAR
