BEGIN:VCALENDAR
VERSION:2.0
PRODID:-//Plone.org//NONSGML plone.app.event//EN
X-WR-TIMEZONE:US/Eastern
BEGIN:VEVENT
SUMMARY:Annual Somerset County Diversity Festival
DTSTART;TZID=US/Eastern;VALUE=DATE-TIME:20231015T120000
DTEND;TZID=US/Eastern;VALUE=DATE-TIME:20231015T160000
DTSTAMP;VALUE=DATE-TIME:20260425T140207Z
UID:950cf64110da4b83bb9ca0e77ff7cc57@plone
CONTACT:https://www.co.somerset.nj.us/about/inclusivity/diversity-statemen
 t/festival
CREATED;VALUE=DATE-TIME:20230811T201706Z
DESCRIPTION:Annual (free!) Diversity Festival in Somerville on October 15t
 h\, 2023.
LAST-MODIFIED;VALUE=DATE-TIME:20230811T202716Z
LOCATION:On Grove and Main Streets\, Somerville\, NJ
URL:http://hillsboroughcommons.org/events/annual-somerset-county-diversity
 -festival
END:VEVENT
BEGIN:VTIMEZONE
TZID:US/Eastern
X-LIC-LOCATION:US/Eastern
BEGIN:DAYLIGHT
DTSTART;VALUE=DATE-TIME:20230312T030000
TZNAME:EDT
TZOFFSETFROM:-0500
TZOFFSETTO:-0400
END:DAYLIGHT
END:VTIMEZONE
END:VCALENDAR
