BEGIN:VCALENDAR
VERSION:2.0
PRODID:-//Plone.org//NONSGML plone.app.event//EN
X-WR-TIMEZONE:US/Eastern
BEGIN:VEVENT
SUMMARY:National Day of Prayer 2024
DTSTART;TZID=US/Eastern;VALUE=DATE-TIME:20240502T093000
DTEND;TZID=US/Eastern;VALUE=DATE-TIME:20240502T103000
DTSTAMP;VALUE=DATE-TIME:20260425T225418Z
UID:ba3c653ada8d4005b2316d942d03c1e2@plone
CATEGORIES:Promoting
CONTACT:https://www.hillsborough-nj.org/resident/calendar/national-day-of-
 prayer
CREATED;VALUE=DATE-TIME:20230501T170223Z
DESCRIPTION:The United States Congress designated (in 1952) the first Thur
 sday in May as National Day of Prayer
LAST-MODIFIED;VALUE=DATE-TIME:20240502T184932Z
URL:http://hillsboroughcommons.org/events/copy_of_national-day-of-prayer-i
 nterfaith-service
END:VEVENT
BEGIN:VEVENT
SUMMARY:EVENT: Many Faiths\, One Hillsborough
DTSTART;TZID=US/Eastern;VALUE=DATE-TIME:20240429T173000
DTEND;TZID=US/Eastern;VALUE=DATE-TIME:20240429T193000
DTSTAMP;VALUE=DATE-TIME:20260425T225418Z
UID:a687b49743b141938476ea0dc90e9153@plone
CONTACT:One Hillsborough Task Force\, onehillsboroughnj@gmail.com
CREATED;VALUE=DATE-TIME:20230105T194452Z
DESCRIPTION:One Hillsborough\, a cross-cultural community advocacy coaliti
 on\, invites all citizens to its SECOND town-wide platform for community c
 onversations to be held on Monday 29 April 2024 from 5:30 pm –7:30 pm\, 
 with free dinner!
LAST-MODIFIED;VALUE=DATE-TIME:20240502T180705Z
LOCATION:Hillsborough YMCA\, 19 East Mountain Rd\, Hillsborough
URL:http://hillsboroughcommons.org/events/copy2_of_town-wide-community-con
 versation
END:VEVENT
BEGIN:VEVENT
SUMMARY:October Brunch Meeting - Sat 10/28
DTSTART;TZID=US/Eastern;VALUE=DATE-TIME:20231028T103000
DTEND;TZID=US/Eastern;VALUE=DATE-TIME:20231028T123000
DTSTAMP;VALUE=DATE-TIME:20260425T225418Z
UID:6df01488f22a4bfabf9bc5ce592deeee@plone
CATEGORIES:Promoting
CONTACT:Nishat or Pieter\, onehillsboroughnj@gmail.com
CREATED;VALUE=DATE-TIME:20230615T135758Z
DESCRIPTION:Our monthly weekend meeting to get together and discuss the pr
 ogress in steps to enhance goodwill\, cooperation\,  understanding and jus
 tice in Hillsborough.
LAST-MODIFIED;VALUE=DATE-TIME:20231010T233516Z
LOCATION:Ruiter residence\, 635 Hillsborough Rd\, Hillsborough\, NJ 08844
URL:http://hillsboroughcommons.org/events/copy2_of_general-one-hillsboroug
 h-meeting
END:VEVENT
BEGIN:VEVENT
SUMMARY:Annual Somerset County Diversity Festival
DTSTART;TZID=US/Eastern;VALUE=DATE-TIME:20231015T120000
DTEND;TZID=US/Eastern;VALUE=DATE-TIME:20231015T160000
DTSTAMP;VALUE=DATE-TIME:20260425T225418Z
UID:950cf64110da4b83bb9ca0e77ff7cc57@plone
CONTACT:https://www.co.somerset.nj.us/about/inclusivity/diversity-statemen
 t/festival
CREATED;VALUE=DATE-TIME:20230811T201706Z
DESCRIPTION:Annual (free!) Diversity Festival in Somerville on October 15t
 h\, 2023.
LAST-MODIFIED;VALUE=DATE-TIME:20230811T202716Z
LOCATION:On Grove and Main Streets\, Somerville\, NJ
URL:http://hillsboroughcommons.org/events/annual-somerset-county-diversity
 -festival
END:VEVENT
BEGIN:VEVENT
SUMMARY:Upcoming One Hillsborough Meeting - Sep 30
DTSTART;TZID=US/Eastern;VALUE=DATE-TIME:20230930T100000
DTEND;TZID=US/Eastern;VALUE=DATE-TIME:20230930T113000
DTSTAMP;VALUE=DATE-TIME:20260425T225418Z
UID:ae5ae4ff880d4951be0ee1baac767508@plone
CONTACT:Nishat or Pieter\, onehillsboroughnj@gmail.com
CREATED;VALUE=DATE-TIME:20230615T135758Z
DESCRIPTION:Our monthly weekend meeting to get together and discuss the pr
 ogress in steps to enhance goodwill\, cooperation\,  understanding and jus
 tice in Hillsborough. Click for details.
LAST-MODIFIED;VALUE=DATE-TIME:20231010T232732Z
LOCATION:Ruiter residence\, 635 Hillsborough Rd\, Hillsborough\, NJ 08844
URL:http://hillsboroughcommons.org/events/copy_of_general-one-hillsborough
 -meeting
END:VEVENT
BEGIN:VEVENT
SUMMARY:Somerset Patriots Inaugural Negro League Tribute Game
DTSTART;TZID=US/Eastern;VALUE=DATE-TIME:20230827T123000
DTEND;TZID=US/Eastern;VALUE=DATE-TIME:20230827T153000
DTSTAMP;VALUE=DATE-TIME:20260425T225418Z
UID:c31d034b891a497cb2f22fd3fb694606@plone
CONTACT:https://www.ssaamuseum.org/upcoming-events
CREATED;VALUE=DATE-TIME:20230811T193934Z
DESCRIPTION:Special Somerset Patriots event honoring the history and legac
 y of the New York Black Yankees.
LAST-MODIFIED;VALUE=DATE-TIME:20230905T203614Z
LOCATION:TD Bank Ballpark\, 1 Patriots Park\, Bridgewater\, NJ
URL:http://hillsboroughcommons.org/somerset-patriots-inaugural-negro-leagu
 e-tribute-game
END:VEVENT
BEGIN:VEVENT
SUMMARY:One Hillsborough debrief on NNO (Aug 9th - zoom)
DTSTART;TZID=US/Eastern;VALUE=DATE-TIME:20230809T200000
DTEND;TZID=US/Eastern;VALUE=DATE-TIME:20230809T204000
DTSTAMP;VALUE=DATE-TIME:20260425T225418Z
UID:ac52fd5494044852b6c92407f2e69797@plone
CONTACT:Nishat or Pieter\, onehillsboroughnj@gmail.com
CREATED;VALUE=DATE-TIME:20230806T174004Z
DESCRIPTION:Debrief on Hillsborough's first National Night Out\, August 1s
 t 2023
LAST-MODIFIED;VALUE=DATE-TIME:20230811T202842Z
LOCATION:Zoom
URL:http://hillsboroughcommons.org/events/one-hillsborough-debrief-on-nno-
 zoom
END:VEVENT
BEGIN:VEVENT
SUMMARY:HB's first National Night Out
DTSTART;TZID=US/Eastern;VALUE=DATE-TIME:20230801T180000
DTEND;TZID=US/Eastern;VALUE=DATE-TIME:20230801T200000
DTSTAMP;VALUE=DATE-TIME:20260425T225418Z
UID:823a9556b7464770a950f523b17e5f8a@plone
CREATED;VALUE=DATE-TIME:20230724T170708Z
DESCRIPTION:Police Department hosts Hillsborough's first National Night Ou
 t
LAST-MODIFIED;VALUE=DATE-TIME:20230806T174149Z
LOCATION:Mountain View Park
URL:http://hillsboroughcommons.org/events/national-night-out
END:VEVENT
BEGIN:VEVENT
SUMMARY:General One Hillsborough Meeting June 17
DTSTART;TZID=US/Eastern;VALUE=DATE-TIME:20230617T090000
DTEND;TZID=US/Eastern;VALUE=DATE-TIME:20230617T110000
DTSTAMP;VALUE=DATE-TIME:20260425T225418Z
UID:cecea93983fd4fec8e06536bca822a80@plone
CONTACT:Nishat or Pieter\, onehillsboroughnj@gmail.com
CREATED;VALUE=DATE-TIME:20230615T135758Z
DESCRIPTION:Our monthly weekend meeting to get together and discuss the pr
 ogress in steps to enhance goodwill\, cooperation\,  understanding and jus
 tice in Hillsborough. Click for details.
LAST-MODIFIED;VALUE=DATE-TIME:20230905T203631Z
LOCATION:Ruiter residence\, 635 Hillsborough Rd\, Hillsborough\, NJ 08844
URL:http://hillsboroughcommons.org/events/general-one-hillsborough-meeting
END:VEVENT
BEGIN:VEVENT
SUMMARY:General One Hillsborough Meeting (Thursday night)
DTSTART;TZID=US/Eastern;VALUE=DATE-TIME:20230601T193000
DTEND;TZID=US/Eastern;VALUE=DATE-TIME:20230601T210000
DTSTAMP;VALUE=DATE-TIME:20260425T225418Z
UID:6d0da8f65f014f4ab463a703e7415200@plone
CONTACT:Nishat or Pieter\, onehillsboroughnj@gmail.com
CREATED;VALUE=DATE-TIME:20230501T164629Z
DESCRIPTION:Our (generally) monthly Thursday night meeting to discuss prog
 ress and goings-on.
LAST-MODIFIED;VALUE=DATE-TIME:20230501T164719Z
LOCATION:Ruiter residence\, 635 Hillsborough Rd\, Hillsborough\, NJ 08844
URL:http://hillsboroughcommons.org/events/general-one-hillsborough-meeting
 -thursday-night
END:VEVENT
BEGIN:VEVENT
SUMMARY:Mental Health and Wellness Fair 2023
DTSTART;TZID=US/Eastern;VALUE=DATE-TIME:20230512T170000
DTEND;TZID=US/Eastern;VALUE=DATE-TIME:20230512T190000
DTSTAMP;VALUE=DATE-TIME:20260425T225418Z
UID:2f978bed311947ef9f78312c388de6b9@plone
CONTACT:https://www.htps.us/community/boro_s_a_f_e
CREATED;VALUE=DATE-TIME:20230501T174744Z
DESCRIPTION:Announcing the 5th Annual Hope for Tomorrow Mental Health & We
 llness Fair
LAST-MODIFIED;VALUE=DATE-TIME:20230905T204416Z
LOCATION:Hillsborough Municipal Complex\, 379 South Branch Rd\, Hillsborou
 gh
URL:http://hillsboroughcommons.org/events/mental-health-and-wellness-fair-
 2023
END:VEVENT
BEGIN:VEVENT
SUMMARY:National Day of Prayer Interfaith Service
DTSTART;TZID=US/Eastern;VALUE=DATE-TIME:20230504T113000
DTEND;TZID=US/Eastern;VALUE=DATE-TIME:20230504T123000
DTSTAMP;VALUE=DATE-TIME:20260425T225418Z
UID:657b11c9365f402cae9ede00c0022bca@plone
CONTACT:https://www.hillsborough-nj.org/news-announcements/1206-national-d
 ay-of-prayer-interfaith-service-may-4th
CREATED;VALUE=DATE-TIME:20230501T170223Z
DESCRIPTION:May 4th is National Day of Prayer
LAST-MODIFIED;VALUE=DATE-TIME:20230511T162142Z
URL:http://hillsboroughcommons.org/events/national-day-of-prayer-interfait
 h-service
END:VEVENT
BEGIN:VEVENT
SUMMARY:General One Hillsborough Meeting (brunch/lunch!)
DTSTART;TZID=US/Eastern;VALUE=DATE-TIME:20230429T103000
DTEND;TZID=US/Eastern;VALUE=DATE-TIME:20230429T123000
DTSTAMP;VALUE=DATE-TIME:20260425T225418Z
UID:30c872f5c2294effb9f7040896e83625@plone
CONTACT:Nishat or Pieter\, 9085528189\, onehillsboroughnj@gmail.com
CREATED;VALUE=DATE-TIME:20230123T211228Z
DESCRIPTION:No meeting in March\, but this particular April 29th meeting i
 ncludes brunch/lunch!
LAST-MODIFIED;VALUE=DATE-TIME:20230501T163958Z
LOCATION:Ruiter residence\, 635 Hillsborough Rd\, Hillsborough\, NJ 08844
URL:http://hillsboroughcommons.org/events/copy6_of_monthly-thursday-night-
 meeting
END:VEVENT
BEGIN:VEVENT
SUMMARY:Learning Circle (zoom) Event
DTSTART;TZID=US/Eastern;VALUE=DATE-TIME:20230427T200000
DTEND;TZID=US/Eastern;VALUE=DATE-TIME:20230427T210000
DTSTAMP;VALUE=DATE-TIME:20260425T225418Z
UID:f298fb5f97cd4174911a77f7706989c7@plone
CONTACT:Nishat\, onehillsboroughnj@gmail.com
CREATED;VALUE=DATE-TIME:20230330T194333Z
DESCRIPTION:Online event to learn about topics relevant to our community.
LAST-MODIFIED;VALUE=DATE-TIME:20230501T175349Z
LOCATION:zoom
URL:http://hillsboroughcommons.org/events/hillsborough-learning-circle-zoo
 m
END:VEVENT
BEGIN:VEVENT
SUMMARY:General One Hillsborough Meeting (brunch/lunch!)
DTSTART;TZID=US/Eastern;VALUE=DATE-TIME:20230402T120000
DTSTAMP;VALUE=DATE-TIME:20260425T225418Z
UID:ecf099534c3245f2825efce49e2f63be@plone
CONTACT:Nishat or Pieter\, 9085528189\, onehillsboroughnj@gmail.com
CREATED;VALUE=DATE-TIME:20230123T211228Z
DESCRIPTION:No meeting in March\, but this particular April 2nd meeting in
 cludes brunch/lunch!
LAST-MODIFIED;VALUE=DATE-TIME:20230310T043101Z
LOCATION:Ruiter residence\, 635 Hillsborough Rd\, Hillsborough\, NJ 08844
URL:http://hillsboroughcommons.org/events/copy3_of_monthly-thursday-night-
 meeting
END:VEVENT
BEGIN:VEVENT
SUMMARY:Save the Date: Night of Conversation 2023
DTSTART;TZID=US/Eastern;VALUE=DATE-TIME:20230330T180000
DTEND;TZID=US/Eastern;VALUE=DATE-TIME:20230330T200000
DTSTAMP;VALUE=DATE-TIME:20260425T225418Z
UID:d2ea9399743547b586df0a04b62966a2@plone
CATEGORIES:Promoting,Public Event
CONTACT:Minda Maggio\, mmaggio@htps.us
CREATED;VALUE=DATE-TIME:20230208T205324Z
DESCRIPTION:Affiliated Event: Annually recurring BoroSafe event to promote
  mental wellness and provide tools for creating meaningful family dialogue
 s. For 2023: to be held on March 30th at the Hillsborough Municipal Buildi
 ng from 6–8 p.m.
LAST-MODIFIED;VALUE=DATE-TIME:20230214T012045Z
LOCATION:Hillsborough Municipal Building
URL:http://hillsboroughcommons.org/events/night-of-conversation-2023
END:VEVENT
BEGIN:VEVENT
SUMMARY:General One Hillsborough Zoom Call
DTSTART;TZID=America/New_York;VALUE=DATE-TIME:20230302T193000
DTEND;TZID=America/New_York;VALUE=DATE-TIME:20230302T210000
DTSTAMP;VALUE=DATE-TIME:20260425T225418Z
UID:fbbfb4b0340f43d087ea58ef822cfd35@plone
CONTACT:Nishat or Pieter\, 9085528189\, onehillsboroughnj@gmail.com
CREATED;VALUE=DATE-TIME:20230123T211228Z
DESCRIPTION:Repeats monthly on the 1st Thursday\, using Zoom.
LAST-MODIFIED;VALUE=DATE-TIME:20230214T012044Z
LOCATION:Zoom (see link below)
URL:http://hillsboroughcommons.org/events/copy2_of_monthly-thursday-night-
 meeting
END:VEVENT
BEGIN:VEVENT
SUMMARY:General One Hillsborough Meeting
DTSTART;TZID=US/Eastern;VALUE=DATE-TIME:20230219T150000
DTEND;TZID=US/Eastern;VALUE=DATE-TIME:20230219T170000
DTSTAMP;VALUE=DATE-TIME:20260425T225418Z
UID:91b56f54a30e417ab7c5f238d94aae39@plone
CONTACT:Nishat or Pieter\, 9085528189\, onehillsboroughnj@gmail.com
CREATED;VALUE=DATE-TIME:20230123T211228Z
DESCRIPTION:Repeats monthly\, generally on the 2nd Sunday\, meeting in per
 son.\nThis month: 1 week later (because of Super Bowl on Feb 12)
LAST-MODIFIED;VALUE=DATE-TIME:20230214T012044Z
LOCATION:Ruiter Residence\, 635 Hillsborough Rd\, Hillsborough\, NJ 08844
URL:http://hillsboroughcommons.org/events/copy_of_monthly-thursday-night-m
 eeting
END:VEVENT
BEGIN:VEVENT
SUMMARY:General One Hillsborough Zoom Call
DTSTART;TZID=America/New_York;VALUE=DATE-TIME:20230202T193000
DTEND;TZID=America/New_York;VALUE=DATE-TIME:20230202T210000
DTSTAMP;VALUE=DATE-TIME:20260425T225418Z
UID:0a3ae24061dc4c9fa93511b8890ab693@plone
CONTACT:Nishat or Pieter\, 9085528189\, onehillsboroughnj@gmail.com
CREATED;VALUE=DATE-TIME:20230123T211228Z
DESCRIPTION:Repeats monthly on the 1st Thursday\, using Zoom.
LAST-MODIFIED;VALUE=DATE-TIME:20230214T012045Z
LOCATION:Zoom (see link below)
URL:http://hillsboroughcommons.org/events/monthly-thursday-night-meeting
END:VEVENT
BEGIN:VEVENT
SUMMARY:Invitation: Town-wide Community Conversation
DTSTART;TZID=America/New_York;VALUE=DATE-TIME:20230120T180000
DTEND;TZID=America/New_York;VALUE=DATE-TIME:20230120T210000
DTSTAMP;VALUE=DATE-TIME:20260425T225418Z
UID:187a6924dea2443fbc6db6aeccebccfc@plone
CATEGORIES:Public Event
CONTACT:One Hillsborough Task Force\, onehillsboroughnj@gmail.com
CREATED;VALUE=DATE-TIME:20230105T194452Z
DESCRIPTION:One Hillsborough\, a new cross-cultural community advocacy coa
 lition in collaboration with Hillsborough Township sponsorship\, invites a
 ll citizens to its first town-wide platform for community conversations to
  be held on January 20th\, 2023\, from 6:00–9:00 PM at the Hillsborough 
 Municipal Building located at 379 South Branch Road in Hillsborough. Sandw
 iches and refreshments will be served\, courtesy of the HEA Pride Committe
 e.
LAST-MODIFIED;VALUE=DATE-TIME:20230214T012045Z
LOCATION:Hillsborough Municipal Building\, 379 South Branch Road\, Hillsbo
 rough
URL:http://hillsboroughcommons.org/events/town-wide-community-conversation
END:VEVENT
BEGIN:VEVENT
SUMMARY:Screening of movie "Me\, the Other" (again)
DTSTART;TZID=America/New_York;VALUE=DATE-TIME:20221015T200000
DTEND;TZID=America/New_York;VALUE=DATE-TIME:20221015T230000
DTSTAMP;VALUE=DATE-TIME:20260425T225418Z
UID:75fae89ee3354b9f85005c524b798c68@plone
CONTACT:Nishat Ruiter\, 9086722488\, nishat.ruiter@gmail.com
CREATED;VALUE=DATE-TIME:20221006T173654Z
DESCRIPTION:The movie narrates real-life stories of various young people f
 rom Michigan who experience ‘othering’ and how this has affected and s
 till shapes their lives.
LAST-MODIFIED;VALUE=DATE-TIME:20230214T012045Z
LOCATION:Ruiter residence\, 635 Hillsborough Rd\, Hillsborough\, NJ 08844
URL:http://hillsboroughcommons.org/events/screening-of-movie-me-the-other-
 again
END:VEVENT
BEGIN:VEVENT
SUMMARY:Social Change Workshop (zoom)
DTSTART;TZID=America/New_York;VALUE=DATE-TIME:20220210T190000
DTEND;TZID=America/New_York;VALUE=DATE-TIME:20220210T203000
DTSTAMP;VALUE=DATE-TIME:20260425T225418Z
UID:04cc1b1207744e6d877bb275c9a8935f@plone
CONTACT:Nishat\, 9086722488\, nishat.ruiter@gmail.com
CREATED;VALUE=DATE-TIME:20220210T175032Z
DESCRIPTION:Online workshop to discuss social change\, hosted by Nishat Ru
 iter.
LAST-MODIFIED;VALUE=DATE-TIME:20230214T012045Z
LOCATION:Zoom (virtual event)
URL:http://hillsboroughcommons.org/events/social-change-workshop-zoom
END:VEVENT
BEGIN:VEVENT
SUMMARY:Hope for Tomorrow Mental Health & Wellness Fair
DTSTART;TZID=America/New_York;VALUE=DATE-TIME:20210514T170000
DTEND;TZID=America/New_York;VALUE=DATE-TIME:20210514T190000
DTSTAMP;VALUE=DATE-TIME:20260425T225418Z
UID:a0fef8fb5d27493c8aa3d5dd1692ff75@plone
CONTACT:Anna Mahler\, amahler@htps.us\, https://www.htps.us/community/boro
 _s_a_f_e
CREATED;VALUE=DATE-TIME:20210508T222309Z
DESCRIPTION:Hope for Tomorrow Mental Health Fair\, hosted by BoroSAFE
LAST-MODIFIED;VALUE=DATE-TIME:20230214T012045Z
LOCATION:Hillsborough Municipal Building Outside Lawn\, 379 S Branch Rd Hi
 llsborough Township\, NJ 08844
URL:http://hillsboroughcommons.org/events/hope-for-tomorrow-mental-health-
 wellness-fair
END:VEVENT
BEGIN:VEVENT
SUMMARY:Dialogue About Race (Thursday Zoom Series)
DTSTART;TZID=America/New_York;VALUE=DATE-TIME:20210218T190000
DTEND;TZID=America/New_York;VALUE=DATE-TIME:20210218T203000
DTSTAMP;VALUE=DATE-TIME:20260425T225418Z
UID:985abb281a614bcbaeb7cdaa3f22d2d1@plone
CONTACT:Cindy Assini
CREATED;VALUE=DATE-TIME:20200724T004706Z
DESCRIPTION:Six 90-minute zoom calls on Thursday night\, February through 
 May 2021 to create space for interracial\, non-partisan dialogue about rac
 e.
LAST-MODIFIED;VALUE=DATE-TIME:20230214T012044Z
LOCATION:zoom
URL:http://hillsboroughcommons.org/events/democracy-in-action
END:VEVENT
BEGIN:VEVENT
SUMMARY:2021 National Day of Racial Healing
DTSTART;TZID=America/New_York;VALUE=DATE-TIME:20210204T190000
DTEND;TZID=America/New_York;VALUE=DATE-TIME:20210204T203000
DTSTAMP;VALUE=DATE-TIME:20260425T225418Z
UID:9308d7df81214109ac25b89b33037ff6@plone
CONTACT:https://hillsboroughcommons.org/news/announcing-the-2021-national-
 day-of-racial-healing-for-hillsborough
CREATED;VALUE=DATE-TIME:20210108T033859Z
DESCRIPTION:Our annual opportunity to bring ALL people together in their c
 ommon humanity and inspire collective action to create a more just and equ
 itable world.
LAST-MODIFIED;VALUE=DATE-TIME:20230214T012044Z
LOCATION:Zoom (virtual event)
URL:http://hillsboroughcommons.org/events/2021-national-day-of-racial-heal
 ing
END:VEVENT
BEGIN:VTIMEZONE
TZID:US/Eastern
X-LIC-LOCATION:US/Eastern
BEGIN:DAYLIGHT
DTSTART;VALUE=DATE-TIME:20240310T030000
TZNAME:EDT
TZOFFSETFROM:-0500
TZOFFSETTO:-0400
END:DAYLIGHT
BEGIN:DAYLIGHT
DTSTART;VALUE=DATE-TIME:20230312T030000
TZNAME:EDT
TZOFFSETFROM:-0500
TZOFFSETTO:-0400
END:DAYLIGHT
BEGIN:STANDARD
DTSTART;VALUE=DATE-TIME:20221106T010000
TZNAME:EST
TZOFFSETFROM:-0400
TZOFFSETTO:-0500
END:STANDARD
END:VTIMEZONE
BEGIN:VTIMEZONE
TZID:America/New_York
X-LIC-LOCATION:America/New_York
BEGIN:STANDARD
DTSTART;VALUE=DATE-TIME:20221106T010000
TZNAME:EST
TZOFFSETFROM:-0400
TZOFFSETTO:-0500
END:STANDARD
BEGIN:DAYLIGHT
DTSTART;VALUE=DATE-TIME:20220313T030000
TZNAME:EDT
TZOFFSETFROM:-0500
TZOFFSETTO:-0400
END:DAYLIGHT
BEGIN:STANDARD
DTSTART;VALUE=DATE-TIME:20211107T010000
TZNAME:EST
TZOFFSETFROM:-0400
TZOFFSETTO:-0500
END:STANDARD
BEGIN:DAYLIGHT
DTSTART;VALUE=DATE-TIME:20210314T030000
TZNAME:EDT
TZOFFSETFROM:-0500
TZOFFSETTO:-0400
END:DAYLIGHT
BEGIN:STANDARD
DTSTART;VALUE=DATE-TIME:20201101T010000
TZNAME:EST
TZOFFSETFROM:-0400
TZOFFSETTO:-0500
END:STANDARD
END:VTIMEZONE
END:VCALENDAR
