BEGIN:VCALENDAR
VERSION:2.0
PRODID:-//Plone.org//NONSGML plone.app.event//EN
X-WR-TIMEZONE:US/Eastern
BEGIN:VEVENT
SUMMARY:2021 National Day of Racial Healing
DTSTART;TZID=America/New_York;VALUE=DATE-TIME:20210204T190000
DTEND;TZID=America/New_York;VALUE=DATE-TIME:20210204T203000
DTSTAMP;VALUE=DATE-TIME:20260426T002851Z
UID:9308d7df81214109ac25b89b33037ff6@plone
CONTACT:https://hillsboroughcommons.org/news/announcing-the-2021-national-
 day-of-racial-healing-for-hillsborough
CREATED;VALUE=DATE-TIME:20210108T033859Z
DESCRIPTION:Our annual opportunity to bring ALL people together in their c
 ommon humanity and inspire collective action to create a more just and equ
 itable world.
LAST-MODIFIED;VALUE=DATE-TIME:20230214T012044Z
LOCATION:Zoom (virtual event)
URL:http://hillsboroughcommons.org/events/2021-national-day-of-racial-heal
 ing
END:VEVENT
BEGIN:VTIMEZONE
TZID:America/New_York
X-LIC-LOCATION:America/New_York
BEGIN:STANDARD
DTSTART;VALUE=DATE-TIME:20201101T010000
TZNAME:EST
TZOFFSETFROM:-0400
TZOFFSETTO:-0500
END:STANDARD
END:VTIMEZONE
END:VCALENDAR
